BEGIN:VCALENDAR
VERSION:2.0
PRODID:Events Booking
BEGIN:VEVENT
UID:69ea155dc1134
SUMMARY:Webinar: Using Ambidexterity and Strategic Foresight for Long-Term 
 Marketplace Positioning
DESCRIPTION:
DTSTART:20190726T130000Z
DTEND:20190726T140000Z
DTSTAMP:20260423T074933Z
ORGANIZER;CN=Institute for Competitive Intelligence:MAILTO:website@institut
 e-for-competitive-intelligence.com
END:VEVENT
BEGIN:VEVENT
UID:69ea155dc1188
SUMMARY:Webinar: Is this the End of the Line for Competitive Intelligence?
DESCRIPTION:
DTSTART:20190830T130000Z
DTEND:20190830T140000Z
DTSTAMP:20260423T074933Z
ORGANIZER;CN=Institute for Competitive Intelligence:MAILTO:website@institut
 e-for-competitive-intelligence.com
END:VEVENT
BEGIN:VEVENT
UID:69ea155dc1197
SUMMARY:Webinar: What CI Pro­fes­sio­nals Can Learn from Art
DESCRIPTION:
DTSTART:20191010T130000Z
DTEND:20191010T140000Z
DTSTAMP:20260423T074933Z
ORGANIZER;CN=Institute for Competitive Intelligence:MAILTO:website@institut
 e-for-competitive-intelligence.com
END:VEVENT
BEGIN:VEVENT
UID:69ea155dc11a4
SUMMARY:Automated Intelligence and Supply Chain Risk Analysis Using NLP 
DESCRIPTION:
DTSTART:20191125T140000Z
DTEND:20191126T155800Z
DTSTAMP:20260423T074933Z
ORGANIZER;CN=Institute for Competitive Intelligence:MAILTO:website@institut
 e-for-competitive-intelligence.com
END:VEVENT
BEGIN:VEVENT
UID:69ea155dc11b0
SUMMARY:Webinar: Exploring a new dimension for a competitive intelligence a
 nalyst: The environment!
DESCRIPTION:
DTSTART:20200116T140000Z
DTEND:20200116T150000Z
DTSTAMP:20260423T074933Z
ORGANIZER;CN=Institute for Competitive Intelligence:MAILTO:website@institut
 e-for-competitive-intelligence.com
END:VEVENT
BEGIN:VEVENT
UID:69ea155dc11bb
SUMMARY:Webinar: The executive perspective: How to make your CI/MI work cou
 nt
DESCRIPTION:
DTSTART:20200218T160000Z
DTEND:20200218T170000Z
DTSTAMP:20260423T074933Z
ORGANIZER;CN=Institute for Competitive Intelligence:MAILTO:website@institut
 e-for-competitive-intelligence.com
END:VEVENT
BEGIN:VEVENT
UID:69ea155dc11c8
SUMMARY:Free Webinar: FCCI - Fundamental Certificate in Competitive Intelli
 gence™ - Teaser
DESCRIPTION:
 The Fundamental Certificate in Competitive Intelligence (FCC
 I)™ is a world-class program that teaches you the core skills and knowle
 dge to become a professional market and competitive analyst. We will talk 
 about what this certificate is about\, meet like-minded professionals and 
 learn how you can enroll.
 &nbsp\;
LOCATION:Korngasse\, Butzbach\, 35510 Hesse\, Germany
DTSTART:20231218T140000Z
DTEND:20231218T150000Z
DTSTAMP:20260423T074933Z
ORGANIZER;CN=Institute for Competitive Intelligence:MAILTO:website@institut
 e-for-competitive-intelligence.com
GEO:50.435165;8.672334
X-APPLE-STRUCTURED-LOCATION;VALUE=URI;X-ADDRESS=Korngasse\, Butzbach\, 3551
 0 Hesse\, Germany;X-APPLE-RADIUS=72;X-TITLE=Webinar:50.435165;8.672334
END:VEVENT
BEGIN:VEVENT
UID:69ea155dc11d8
SUMMARY:Free Webinar: \"ICI's Competitive Intelligence Certificates\"
DESCRIPTION:
 Learn more about the ICI and our offering! In this live webi
 nar we invite you to join a session where you can learn about our offering
 .
 The Director of the Institute for Competitive Intelligence\, Rainer Mi
 chaeli will introduce you to ICI’s 7 Competitive Intelligence certificat
 e programs.A LIVE discussion provides an opportunity to ask questions!
 K
 ey Topics:
 
 ICI facts &amp\; figures
 How to choose the right certifi
 cate?
 What is it like to study at the ICI?
 How to apply?
 
LOCATION:Korngasse\, Butzbach\, 35510 Hesse\, Germany
DTSTART:20240110T140000Z
DTEND:20240110T150000Z
DTSTAMP:20260423T074933Z
ORGANIZER;CN=Institute for Competitive Intelligence:MAILTO:website@institut
 e-for-competitive-intelligence.com
GEO:50.435165;8.672334
X-APPLE-STRUCTURED-LOCATION;VALUE=URI;X-ADDRESS=Korngasse\, Butzbach\, 3551
 0 Hesse\, Germany;X-APPLE-RADIUS=72;X-TITLE=Webinar:50.435165;8.672334
END:VEVENT
BEGIN:VEVENT
UID:69ea155dc11e7
SUMMARY:Free Webinar: How to create an effective CI/MI culture
DESCRIPTION:
LOCATION:Korngasse\, Butzbach\, 35510 Hesse\, Germany
DTSTART:20240229T140000Z
DTEND:20240229T150000Z
DTSTAMP:20260423T074933Z
ORGANIZER;CN=Institute for Competitive Intelligence:MAILTO:website@institut
 e-for-competitive-intelligence.com
GEO:50.435165;8.672334
X-APPLE-STRUCTURED-LOCATION;VALUE=URI;X-ADDRESS=Korngasse\, Butzbach\, 3551
 0 Hesse\, Germany;X-APPLE-RADIUS=72;X-TITLE=Webinar:50.435165;8.672334
END:VEVENT
BEGIN:VEVENT
UID:69ea155dc11f6
SUMMARY:Free Webinar: \"ICI's Competitive Intelligence Certificates\"
DESCRIPTION:Learn more about the ICI and our offering! In this live webinar
  we invite you to join a session where you can learn about our offering.

  &nbsp\;
 The Director of the Institute for Competitive Intelligence\, Ra
 iner Michaeli will introduce you to ICI’s 7 Competitive Intelligence cer
 tificate programs.A LIVE discussion provides an opportunity to ask questio
 ns!
 Key Topics:
 
 ICI facts &amp\; figures
 How to choose the right 
 certificate?
 What is it like to study at the ICI?
 How to apply?
 
LOCATION:Korngasse\, Butzbach\, 35510 Hesse\, Germany
DTSTART:20240322T140000Z
DTEND:20240322T150000Z
DTSTAMP:20260423T074933Z
ORGANIZER;CN=Institute for Competitive Intelligence:MAILTO:website@institut
 e-for-competitive-intelligence.com
GEO:50.435165;8.672334
X-APPLE-STRUCTURED-LOCATION;VALUE=URI;X-ADDRESS=Korngasse\, Butzbach\, 3551
 0 Hesse\, Germany;X-APPLE-RADIUS=72;X-TITLE=Webinar:50.435165;8.672334
END:VEVENT
BEGIN:VEVENT
UID:69ea155dc1203
SUMMARY:Free Webinar: ICI's Certificate in Competitive Intelligence Analysi
 s (CCIA)
DESCRIPTION:
LOCATION:Korngasse\, Butzbach\, 35510 Hesse\, Germany
DTSTART:20240523T130000Z
DTEND:20240523T140000Z
DTSTAMP:20260423T074933Z
ORGANIZER;CN=Institute for Competitive Intelligence:MAILTO:website@institut
 e-for-competitive-intelligence.com
GEO:50.435165;8.672334
X-APPLE-STRUCTURED-LOCATION;VALUE=URI;X-ADDRESS=Korngasse\, Butzbach\, 3551
 0 Hesse\, Germany;X-APPLE-RADIUS=72;X-TITLE=Webinar:50.435165;8.672334
END:VEVENT
BEGIN:VEVENT
UID:69ea155dc120f
SUMMARY:Free Webinar:  Strategic Competitive Intelligence for Executives - 
 Do's and Don'ts
DESCRIPTION:
LOCATION:Korngasse\, Butzbach\, 35510 Hesse\, Germany
DTSTART:20240527T130000Z
DTEND:20240527T140000Z
DTSTAMP:20260423T074933Z
ORGANIZER;CN=Institute for Competitive Intelligence:MAILTO:website@institut
 e-for-competitive-intelligence.com
GEO:50.435165;8.672334
X-APPLE-STRUCTURED-LOCATION;VALUE=URI;X-ADDRESS=Korngasse\, Butzbach\, 3551
 0 Hesse\, Germany;X-APPLE-RADIUS=72;X-TITLE=Webinar:50.435165;8.672334
END:VEVENT
BEGIN:VEVENT
UID:69ea155dc121a
SUMMARY:Free Webinar: Adventures in OSINT: The Fine Art of Extreme Open Sou
 rce Intelligence
DESCRIPTION:
LOCATION:Korngasse\, Butzbach\, 35510 Hesse\, Germany
DTSTART:20240620T150000Z
DTEND:20240620T160000Z
DTSTAMP:20260423T074933Z
ORGANIZER;CN=Institute for Competitive Intelligence:MAILTO:website@institut
 e-for-competitive-intelligence.com
GEO:50.435165;8.672334
X-APPLE-STRUCTURED-LOCATION;VALUE=URI;X-ADDRESS=Korngasse\, Butzbach\, 3551
 0 Hesse\, Germany;X-APPLE-RADIUS=72;X-TITLE=Webinar:50.435165;8.672334
END:VEVENT
BEGIN:VEVENT
UID:69ea155dc1228
SUMMARY:Free Webinar: ICI’s Certificate in Competitive Intelligence Manag
 ement
DESCRIPTION:
LOCATION:Korngasse\, Butzbach\, 35510 Hesse\, Germany
DTSTART:20240702T130000Z
DTEND:20240702T140000Z
DTSTAMP:20260423T074933Z
ORGANIZER;CN=Institute for Competitive Intelligence:MAILTO:website@institut
 e-for-competitive-intelligence.com
GEO:50.435165;8.672334
X-APPLE-STRUCTURED-LOCATION;VALUE=URI;X-ADDRESS=Korngasse\, Butzbach\, 3551
 0 Hesse\, Germany;X-APPLE-RADIUS=72;X-TITLE=Webinar:50.435165;8.672334
END:VEVENT
BEGIN:VEVENT
UID:69ea155dc1234
SUMMARY:Free Webinar: OSINT Journey Part 2 - Tools and Techniques
DESCRIPTION:Join us for an insightful webinar with Claudia Tietze. She is a
  seasoned Open Source Intelligence (OSINT) professional and the acclaimed 
 author of the ‘Not So Ultimate OSINT Compendium’. This webinar aims to
  equip you with the tools and techniques needed to effectively navigate th
 e complex digital landscape.
LOCATION:Korngasse\, Butzbach\, 35510 Hesse\, Germany
DTSTART:20240820T150000Z
DTEND:20240820T163000Z
DTSTAMP:20260423T074933Z
ORGANIZER;CN=Institute for Competitive Intelligence:MAILTO:website@institut
 e-for-competitive-intelligence.com
GEO:50.435165;8.672334
X-APPLE-STRUCTURED-LOCATION;VALUE=URI;X-ADDRESS=Korngasse\, Butzbach\, 3551
 0 Hesse\, Germany;X-APPLE-RADIUS=72;X-TITLE=Webinar:50.435165;8.672334
END:VEVENT
BEGIN:VEVENT
UID:69ea155dc1240
SUMMARY:Free Webinar: Certificate in Competitive Strategy – Navigating th
 e Strategy Jungle
DESCRIPTION:Are you lost in the myriad of strategic frameworks?The Director
  of the Institute for Competitive Intelligence\, Rainer Michaeli will intr
 oduce you to ICI’s Certificate in Competitive Strategy.&nbsp\;A LIVE dis
 cussion provides an opportunity to ask questions!
LOCATION:Korngasse\, Butzbach\, 35510 Hesse\, Germany
DTSTART:20240904T130000Z
DTEND:20240904T140000Z
DTSTAMP:20260423T074933Z
ORGANIZER;CN=Institute for Competitive Intelligence:MAILTO:website@institut
 e-for-competitive-intelligence.com
GEO:50.435165;8.672334
X-APPLE-STRUCTURED-LOCATION;VALUE=URI;X-ADDRESS=Korngasse\, Butzbach\, 3551
 0 Hesse\, Germany;X-APPLE-RADIUS=72;X-TITLE=Webinar:50.435165;8.672334
END:VEVENT
BEGIN:VEVENT
UID:69ea155dc124d
SUMMARY:Free Webinar: AI Challenge 2024 - Results and Winners
DESCRIPTION:In our free final webinar\, our participants will share their e
 xperiences using AI for a real CI/MI case. The winning teams will showcase
  results and presentations about this case that were created in hours rath
 er than days. They will share their experiences using AI. Some were quite 
 novice AI users before they joined the challenge and now cannot imagine do
 ing their daily work without AI.
LOCATION:Korngasse\, Butzbach\, 35510 Hesse\, Germany
DTSTART:20240905T150000Z
DTEND:20240905T173000Z
DTSTAMP:20260423T074933Z
ORGANIZER;CN=Institute for Competitive Intelligence:MAILTO:website@institut
 e-for-competitive-intelligence.com
GEO:50.435165;8.672334
X-APPLE-STRUCTURED-LOCATION;VALUE=URI;X-ADDRESS=Korngasse\, Butzbach\, 3551
 0 Hesse\, Germany;X-APPLE-RADIUS=72;X-TITLE=Webinar:50.435165;8.672334
END:VEVENT
BEGIN:VEVENT
UID:69ea155dc1259
SUMMARY:Webinar: Optimizing Your Company’s Intelligence Collection Practi
 ce
DESCRIPTION:
LOCATION:Korngasse\, Butzbach\, 35510 Hesse\, Germany
DTSTART:20250120T140000Z
DTEND:20250120T150000Z
DTSTAMP:20260423T074933Z
ORGANIZER;CN=Institute for Competitive Intelligence:MAILTO:website@institut
 e-for-competitive-intelligence.com
GEO:50.435165;8.672334
X-APPLE-STRUCTURED-LOCATION;VALUE=URI;X-ADDRESS=Korngasse\, Butzbach\, 3551
 0 Hesse\, Germany;X-APPLE-RADIUS=72;X-TITLE=Webinar:50.435165;8.672334
END:VEVENT
BEGIN:VEVENT
UID:69ea155dc1265
SUMMARY:Free Webinar: Understanding the Future - No Need for Crystal Balls
DESCRIPTION:
LOCATION:Korngasse\, Butzbach\, 35510 Hesse\, Germany
DTSTART:20250227T140000Z
DTEND:20250227T150000Z
DTSTAMP:20260423T074933Z
ORGANIZER;CN=Institute for Competitive Intelligence:MAILTO:website@institut
 e-for-competitive-intelligence.com
GEO:50.435165;8.672334
X-APPLE-STRUCTURED-LOCATION;VALUE=URI;X-ADDRESS=Korngasse\, Butzbach\, 3551
 0 Hesse\, Germany;X-APPLE-RADIUS=72;X-TITLE=Webinar:50.435165;8.672334
END:VEVENT
BEGIN:VEVENT
UID:69ea155dc1271
SUMMARY:Free Webinar: Understanding the Future - No Need for Crystal Balls
DESCRIPTION:
LOCATION:Korngasse\, Butzbach\, 35510 Hesse\, Germany
DTSTART:20250324T140000Z
DTEND:20250324T150000Z
DTSTAMP:20260423T074933Z
ORGANIZER;CN=Institute for Competitive Intelligence:MAILTO:website@institut
 e-for-competitive-intelligence.com
GEO:50.435165;8.672334
X-APPLE-STRUCTURED-LOCATION;VALUE=URI;X-ADDRESS=Korngasse\, Butzbach\, 3551
 0 Hesse\, Germany;X-APPLE-RADIUS=72;X-TITLE=Webinar:50.435165;8.672334
END:VEVENT
BEGIN:VEVENT
UID:69ea155dc127c
SUMMARY:Free Webinar:  Strategic Competitive Intelligence for Executives - 
 Do's and Don'ts
DESCRIPTION:
LOCATION:Korngasse\, Butzbach\, 35510 Hesse\, Germany
DTSTART:20250331T130000Z
DTEND:20250331T140000Z
DTSTAMP:20260423T074933Z
ORGANIZER;CN=Institute for Competitive Intelligence:MAILTO:website@institut
 e-for-competitive-intelligence.com
GEO:50.435165;8.672334
X-APPLE-STRUCTURED-LOCATION;VALUE=URI;X-ADDRESS=Korngasse\, Butzbach\, 3551
 0 Hesse\, Germany;X-APPLE-RADIUS=72;X-TITLE=Webinar:50.435165;8.672334
END:VEVENT
BEGIN:VEVENT
UID:69ea155dc1287
SUMMARY:Free Webinar -  Beyond the obvious: Managing Competitive/Market Int
 elligence
DESCRIPTION:
LOCATION:Korngasse\, Butzbach\, 35510 Hesse\, Germany
DTSTART:20250728T130000Z
DTEND:20250728T140000Z
DTSTAMP:20260423T074933Z
ORGANIZER;CN=Institute for Competitive Intelligence:MAILTO:website@institut
 e-for-competitive-intelligence.com
GEO:50.435165;8.672334
X-APPLE-STRUCTURED-LOCATION;VALUE=URI;X-ADDRESS=Korngasse\, Butzbach\, 3551
 0 Hesse\, Germany;X-APPLE-RADIUS=72;X-TITLE=Webinar:50.435165;8.672334
END:VEVENT
BEGIN:VEVENT
UID:69ea155dc1295
SUMMARY:Free Webinar - Strategic Agility: Competing in Hyper-Competitive Ma
 rkets
DESCRIPTION:
LOCATION:Korngasse\, Butzbach\, 35510 Hesse\, Germany
DTSTART:20250918T130000Z
DTEND:20250918T140000Z
DTSTAMP:20260423T074933Z
ORGANIZER;CN=Institute for Competitive Intelligence:MAILTO:website@institut
 e-for-competitive-intelligence.com
GEO:50.435165;8.672334
X-APPLE-STRUCTURED-LOCATION;VALUE=URI;X-ADDRESS=Korngasse\, Butzbach\, 3551
 0 Hesse\, Germany;X-APPLE-RADIUS=72;X-TITLE=Webinar:50.435165;8.672334
END:VEVENT
BEGIN:VEVENT
UID:69ea155dc12a0
SUMMARY:Free Webinar - Do You Really Know Your Competitors?
DESCRIPTION:
LOCATION:Korngasse\, Butzbach\, 35510 Hesse\, Germany
DTSTART:20251103T140000Z
DTEND:20251103T150000Z
DTSTAMP:20260423T074933Z
ORGANIZER;CN=Institute for Competitive Intelligence:MAILTO:website@institut
 e-for-competitive-intelligence.com
GEO:50.435165;8.672334
X-APPLE-STRUCTURED-LOCATION;VALUE=URI;X-ADDRESS=Korngasse\, Butzbach\, 3551
 0 Hesse\, Germany;X-APPLE-RADIUS=72;X-TITLE=Webinar:50.435165;8.672334
END:VEVENT
BEGIN:VEVENT
UID:69ea155dc12ac
SUMMARY:FCCI Orientation Session: Navigating Your University-Accredited Cer
 tificate in Competitive Intelligence
DESCRIPTION:
LOCATION:Korngasse\, Butzbach\, 35510 Hesse\, Germany
DTSTART:20260119T080000Z
DTEND:20260119T110000Z
DTSTAMP:20251103T120116Z
ORGANIZER;CN=Institute for Competitive Intelligence:MAILTO:website@institut
 e-for-competitive-intelligence.com
GEO:50.435165;8.672334
X-APPLE-STRUCTURED-LOCATION;VALUE=URI;X-ADDRESS=Korngasse\, Butzbach\, 3551
 0 Hesse\, Germany;X-APPLE-RADIUS=72;X-TITLE=Remote:50.435165;8.672334
END:VEVENT
BEGIN:VEVENT
UID:69ea155dc12bf
SUMMARY:How to Use Public Information for Smarter Business Strategies: An I
 ntroduction to OSINT & AI
DESCRIPTION:
LOCATION:Korngasse\, Butzbach\, 35510 Hesse\, Germany
DTSTART:20260126T140000Z
DTEND:20260126T150000Z
DTSTAMP:20251120T080107Z
ORGANIZER;CN=Institute for Competitive Intelligence:MAILTO:website@institut
 e-for-competitive-intelligence.com
GEO:50.435165;8.672334
X-APPLE-STRUCTURED-LOCATION;VALUE=URI;X-ADDRESS=Korngasse\, Butzbach\, 3551
 0 Hesse\, Germany;X-APPLE-RADIUS=72;X-TITLE=Remote:50.435165;8.672334
END:VEVENT
BEGIN:VEVENT
UID:69ea155dc12d5
SUMMARY:The AI-Literate Analyst: Turning Regulation into Better Competitive
  Intelligence
DESCRIPTION:
LOCATION:Korngasse\, Butzbach\, 35510 Hesse\, Germany
DTSTART:20260209T140000Z
DTEND:20260209T150000Z
DTSTAMP:20251211T105108Z
ORGANIZER;CN=Institute for Competitive Intelligence:MAILTO:website@institut
 e-for-competitive-intelligence.com
GEO:50.435165;8.672334
X-APPLE-STRUCTURED-LOCATION;VALUE=URI;X-ADDRESS=Korngasse\, Butzbach\, 3551
 0 Hesse\, Germany;X-APPLE-RADIUS=72;X-TITLE=Remote:50.435165;8.672334
END:VEVENT
BEGIN:VEVENT
UID:69ea155dc12e4
SUMMARY:Free Webinar: Optimizing Your Company’s Intelligence Collection P
 ractice
DESCRIPTION:
LOCATION:Korngasse\, Butzbach\, 35510 Hesse\, Germany
DTSTART:20260210T140000Z
DTEND:20260210T150000Z
DTSTAMP:20251218T093243Z
ORGANIZER;CN=Institute for Competitive Intelligence:MAILTO:website@institut
 e-for-competitive-intelligence.com
GEO:50.435165;8.672334
X-APPLE-STRUCTURED-LOCATION;VALUE=URI;X-ADDRESS=Korngasse\, Butzbach\, 3551
 0 Hesse\, Germany;X-APPLE-RADIUS=72;X-TITLE=Remote:50.435165;8.672334
END:VEVENT
BEGIN:VEVENT
UID:69ea155dc12f5
SUMMARY:CCIR Orientation Session: Navigating Your University-Accredited Cer
 tificate in Competitive Intelligence
DESCRIPTION:
LOCATION:Korngasse\, Butzbach\, 35510 Hesse\, Germany
DTSTART:20260318T140000Z
DTEND:20260318T150000Z
DTSTAMP:20260304T110540Z
ORGANIZER;CN=Institute for Competitive Intelligence:MAILTO:website@institut
 e-for-competitive-intelligence.com
GEO:50.435165;8.672334
X-APPLE-STRUCTURED-LOCATION;VALUE=URI;X-ADDRESS=Korngasse\, Butzbach\, 3551
 0 Hesse\, Germany;X-APPLE-RADIUS=72;X-TITLE=Remote:50.435165;8.672334
END:VEVENT
BEGIN:VEVENT
UID:69ea155dc1305
SUMMARY:Kick-off meeting - Intensives
DESCRIPTION:
LOCATION:Korngasse\, Butzbach\, 35510 Hesse\, Germany
DTSTART:20260420T130000Z
DTEND:20260420T140000Z
DTSTAMP:20260415T091830Z
ORGANIZER;CN=Institute for Competitive Intelligence:MAILTO:website@institut
 e-for-competitive-intelligence.com
GEO:50.435165;8.672334
X-APPLE-STRUCTURED-LOCATION;VALUE=URI;X-ADDRESS=Korngasse\, Butzbach\, 3551
 0 Hesse\, Germany;X-APPLE-RADIUS=72;X-TITLE=Remote:50.435165;8.672334
END:VEVENT
BEGIN:VEVENT
UID:69ea155dc1316
SUMMARY:SpeakerList
DESCRIPTION:
DTSTART:20190729T220000Z
DTEND:20190730T225800Z
DTSTAMP:20260423T074933Z
ORGANIZER;CN=Institute for Competitive Intelligence:MAILTO:website@institut
 e-for-competitive-intelligence.com
END:VEVENT
END:VCALENDAR