BEGIN:VCALENDAR
VERSION:2.0
PRODID:Events Booking
BEGIN:VEVENT
UID:69eaa3c90f4f9
SUMMARY:ICI-36 Workshop: Ethical Information Warfare
DESCRIPTION:Master ethical information warfare tactics to develop effective
  defense and attack strategies
 The Information Warfare workshop by the I
 CI looks at the principles of this approach and how it can be applied ethi
 cally. You will learn about the various models\, strategies\, and tactics 
 and how to apply them successfully in order to gain competitive advantage.
LOCATION:Lurgiallee 2\, Frankfurt am Main\, 60439 Hesse\, Germany
DTSTART:20261015T070000Z
DTEND:20261015T160000Z
DTSTAMP:20260423T175713Z
ORGANIZER;CN=Institute for Competitive Intelligence:MAILTO:website@institut
 e-for-competitive-intelligence.com
GEO:50.169544;8.637941
X-APPLE-STRUCTURED-LOCATION;VALUE=URI;X-ADDRESS=Lurgiallee 2\, Frankfurt am
  Main\, 60439 Hesse\, Germany;X-APPLE-RADIUS=72;X-TITLE=On-site or Remote 
 (Frankfurt):50.169544;8.637941
END:VEVENT
END:VCALENDAR