BEGIN:VCALENDAR
VERSION:2.0
PRODID:Events Booking
BEGIN:VEVENT
UID:69ea3cf17aafb
SUMMARY:CCIR Orientation Session: Navigating Your University-Accredited Cer
 tificate in Competitive Intelligence
DESCRIPTION:
LOCATION:Korngasse\, Butzbach\, 35510 Hesse\, Germany
DTSTART:20260318T140000Z
DTEND:20260318T150000Z
DTSTAMP:20260304T110540Z
ORGANIZER;CN=Institute for Competitive Intelligence:MAILTO:website@institut
 e-for-competitive-intelligence.com
GEO:50.435165;8.672334
X-APPLE-STRUCTURED-LOCATION;VALUE=URI;X-ADDRESS=Korngasse\, Butzbach\, 3551
 0 Hesse\, Germany;X-APPLE-RADIUS=72;X-TITLE=Remote:50.435165;8.672334
END:VEVENT
BEGIN:VEVENT
UID:69ea3cf17ab4b
SUMMARY:ICI-20 Workshop: Trade Show and Event Intelligence
DESCRIPTION:
LOCATION:Korngasse\, Butzbach\, 35510 Hesse\, Germany
DTSTART:20260413T070000Z
DTEND:20260413T160000Z
DTSTAMP:20260423T103825Z
ORGANIZER;CN=Institute for Competitive Intelligence:MAILTO:website@institut
 e-for-competitive-intelligence.com
GEO:50.435165;8.672334
X-APPLE-STRUCTURED-LOCATION;VALUE=URI;X-ADDRESS=Korngasse\, Butzbach\, 3551
 0 Hesse\, Germany;X-APPLE-RADIUS=72;X-TITLE=Remote:50.435165;8.672334
END:VEVENT
BEGIN:VEVENT
UID:69ea3cf17ab5b
SUMMARY:ICI-38 Workshop: Knowledge Management to Improve Competitive / Mark
 et Intelligence Processes 
DESCRIPTION:
LOCATION:Korngasse\, Butzbach\, 35510 Hesse\, Germany
DTSTART:20260427T070000Z
DTEND:20260427T160000Z
DTSTAMP:20260423T103825Z
ORGANIZER;CN=Institute for Competitive Intelligence:MAILTO:website@institut
 e-for-competitive-intelligence.com
GEO:50.435165;8.672334
X-APPLE-STRUCTURED-LOCATION;VALUE=URI;X-ADDRESS=Korngasse\, Butzbach\, 3551
 0 Hesse\, Germany;X-APPLE-RADIUS=72;X-TITLE=Remote:50.435165;8.672334
END:VEVENT
BEGIN:VEVENT
UID:69ea3cf17ab68
SUMMARY:ICI-35 Workshop: Patent and Intellectual Property Intelligence and 
 Defense
DESCRIPTION:
LOCATION:Korngasse\, Butzbach\, 35510 Hesse\, Germany
DTSTART:20260428T070000Z
DTEND:20260428T160000Z
DTSTAMP:20260423T103825Z
ORGANIZER;CN=Institute for Competitive Intelligence:MAILTO:website@institut
 e-for-competitive-intelligence.com
GEO:50.435165;8.672334
X-APPLE-STRUCTURED-LOCATION;VALUE=URI;X-ADDRESS=Korngasse\, Butzbach\, 3551
 0 Hesse\, Germany;X-APPLE-RADIUS=72;X-TITLE=Remote:50.435165;8.672334
END:VEVENT
BEGIN:VEVENT
UID:69ea3cf17ab74
SUMMARY:ICI-25 Workshop: Social Media Research & Analysis for Competitive /
  Market Intelligence
DESCRIPTION:
LOCATION:Lurgiallee 2\, Frankfurt am Main\, 60439 Hesse\, Germany
DTSTART:20991231T080000Z
DTEND:20991231T170000Z
DTSTAMP:20260423T103825Z
ORGANIZER;CN=Institute for Competitive Intelligence:MAILTO:website@institut
 e-for-competitive-intelligence.com
GEO:50.169544;8.637941
X-APPLE-STRUCTURED-LOCATION;VALUE=URI;X-ADDRESS=Lurgiallee 2\, Frankfurt am
  Main\, 60439 Hesse\, Germany;X-APPLE-RADIUS=72;X-TITLE=On-site or Remote 
 (Frankfurt):50.169544;8.637941
END:VEVENT
END:VCALENDAR