BEGIN:VCALENDAR
VERSION:2.0
PRODID:Events Booking
BEGIN:VEVENT
UID:69ea6d1e8d75b
SUMMARY:ICI-28 Workshop: Financial Analysis Fundamentals for Competitive / 
 Market Intelligence Professionals
DESCRIPTION:
LOCATION:Lurgiallee 2\, Frankfurt am Main\, 60439 Hesse\, Germany
DTSTART:20261104T080000Z
DTEND:20261104T170000Z
DTSTAMP:20260423T140358Z
ORGANIZER;CN=Institute for Competitive Intelligence:MAILTO:website@institut
 e-for-competitive-intelligence.com
GEO:50.169544;8.637941
X-APPLE-STRUCTURED-LOCATION;VALUE=URI;X-ADDRESS=Lurgiallee 2\, Frankfurt am
  Main\, 60439 Hesse\, Germany;X-APPLE-RADIUS=72;X-TITLE=On-site or Remote 
 (Frankfurt):50.169544;8.637941
END:VEVENT
BEGIN:VEVENT
UID:69ea6d1e8d7f6
SUMMARY:ICI-22 Workshop: Strategic Foresight Through Scenario Mapping
DESCRIPTION:
LOCATION:Lurgiallee 2\, Frankfurt am Main\, 60439 Hesse\, Germany
DTSTART:20261105T080000Z
DTEND:20261105T170000Z
DTSTAMP:20260423T140358Z
ORGANIZER;CN=Institute for Competitive Intelligence:MAILTO:website@institut
 e-for-competitive-intelligence.com
GEO:50.169544;8.637941
X-APPLE-STRUCTURED-LOCATION;VALUE=URI;X-ADDRESS=Lurgiallee 2\, Frankfurt am
  Main\, 60439 Hesse\, Germany;X-APPLE-RADIUS=72;X-TITLE=On-site or Remote 
 (Frankfurt):50.169544;8.637941
END:VEVENT
BEGIN:VEVENT
UID:69ea6d1e8d80a
SUMMARY:ICI-32 Workshop: Strategic Foresight with Early Warning Systems
DESCRIPTION:
LOCATION:Lurgiallee 2\, Frankfurt am Main\, 60439 Hesse\, Germany
DTSTART:20261119T080000Z
DTEND:20261119T170000Z
DTSTAMP:20260423T140358Z
ORGANIZER;CN=Institute for Competitive Intelligence:MAILTO:website@institut
 e-for-competitive-intelligence.com
GEO:50.169544;8.637941
X-APPLE-STRUCTURED-LOCATION;VALUE=URI;X-ADDRESS=Lurgiallee 2\, Frankfurt am
  Main\, 60439 Hesse\, Germany;X-APPLE-RADIUS=72;X-TITLE=On-site or Remote 
 (Frankfurt):50.169544;8.637941
END:VEVENT
BEGIN:VEVENT
UID:69ea6d1e8d818
SUMMARY:ICI-26 Workshop: Intelligence Mind Traps and Cognitive Biases
DESCRIPTION:
LOCATION:Lurgiallee 2\, Frankfurt am Main\, 60439 Hesse\, Germany
DTSTART:20261120T080000Z
DTEND:20261120T170000Z
DTSTAMP:20260423T140358Z
ORGANIZER;CN=Institute for Competitive Intelligence:MAILTO:website@institut
 e-for-competitive-intelligence.com
GEO:50.169544;8.637941
X-APPLE-STRUCTURED-LOCATION;VALUE=URI;X-ADDRESS=Lurgiallee 2\, Frankfurt am
  Main\, 60439 Hesse\, Germany;X-APPLE-RADIUS=72;X-TITLE=On-site or Remote 
 (Frankfurt):50.169544;8.637941
END:VEVENT
END:VCALENDAR