BEGIN:VCALENDAR
VERSION:2.0
PRODID:Events Booking
BEGIN:VEVENT
UID:69ea3cf1891ed
SUMMARY:ICI-30 Workshop: Business War Gaming Techniques
DESCRIPTION:Harness the power of advanced business war gaming to support st
 rategic decision making
 The Business War Gaming workshop by the ICI expl
 ores the different business war gaming models for performing role play-bas
 ed simulations of competitor behavior. Learn how to apply this approach in
  order to prepare your business for the future\, make fundamental decision
 s about your business strategy\, and keep ahead of the competition.
LOCATION:Lurgiallee 2\, Frankfurt am Main\, 60439 Hesse\, Germany
DTSTART:20261103T080000Z
DTEND:20261103T170000Z
DTSTAMP:20260423T103825Z
ORGANIZER;CN=Institute for Competitive Intelligence:MAILTO:website@institut
 e-for-competitive-intelligence.com
GEO:50.169544;8.637941
X-APPLE-STRUCTURED-LOCATION;VALUE=URI;X-ADDRESS=Lurgiallee 2\, Frankfurt am
  Main\, 60439 Hesse\, Germany;X-APPLE-RADIUS=72;X-TITLE=On-site or Remote 
 (Frankfurt):50.169544;8.637941
END:VEVENT
BEGIN:VEVENT
UID:69ea3cf189246
SUMMARY:ICI-31 Workshop: Strategic Market Analysis & Intelligence
DESCRIPTION:The art of understanding\, analyzing\, and predicting markets a
 nd trends to support product and corporate strategies
 The Market Intelli
 gence workshop by the ICI will provide you with the necessary professional
  skills to analyze markets from various perspectives\, to support strategy
  development and help your business gain competitive advantage.
LOCATION:Lurgiallee 2\, Frankfurt am Main\, 60439 Hesse\, Germany
DTSTART:20261109T080000Z
DTEND:20261109T170000Z
DTSTAMP:20260423T103825Z
ORGANIZER;CN=Institute for Competitive Intelligence:MAILTO:website@institut
 e-for-competitive-intelligence.com
GEO:50.169544;8.637941
X-APPLE-STRUCTURED-LOCATION;VALUE=URI;X-ADDRESS=Lurgiallee 2\, Frankfurt am
  Main\, 60439 Hesse\, Germany;X-APPLE-RADIUS=72;X-TITLE=On-site or Remote 
 (Frankfurt):50.169544;8.637941
END:VEVENT
BEGIN:VEVENT
UID:69ea3cf189258
SUMMARY:ICI-33 Workshop: Development of Dynamic Corporate Strategies
DESCRIPTION:Tools and techniques to outsmart\, outmaneuver\, and outwit com
 petitors through intelligence-based strategies
 The Development of Dynami
 c Corporate Strategies workshop by the ICI will guide you through the nece
 ssary steps and provide you with the essential skills for developing and o
 ptimizing these corporate strategies.
LOCATION:Lurgiallee 2\, Frankfurt am Main\, 60439 Hesse\, Germany
DTSTART:20261123T080000Z
DTEND:20261124T170000Z
DTSTAMP:20260423T103825Z
ORGANIZER;CN=Institute for Competitive Intelligence:MAILTO:website@institut
 e-for-competitive-intelligence.com
GEO:50.169544;8.637941
X-APPLE-STRUCTURED-LOCATION;VALUE=URI;X-ADDRESS=Lurgiallee 2\, Frankfurt am
  Main\, 60439 Hesse\, Germany;X-APPLE-RADIUS=72;X-TITLE=On-site or Remote 
 (Frankfurt):50.169544;8.637941
END:VEVENT
END:VCALENDAR