BEGIN:VCALENDAR
VERSION:2.0
PRODID:Events Booking
BEGIN:VEVENT
UID:69ea635e8f137
SUMMARY:ICI-31 Workshop: Strategic Market Analysis & Intelligence
DESCRIPTION:The art of understanding\, analyzing\, and predicting markets a
 nd trends to support product and corporate strategies
 The Market Intelli
 gence workshop by the ICI will provide you with the necessary professional
  skills to analyze markets from various perspectives\, to support strategy
  development and help your business gain competitive advantage.
LOCATION:Lurgiallee 2\, Frankfurt am Main\, 60439 Hesse\, Germany
DTSTART:20261109T080000Z
DTEND:20261109T170000Z
DTSTAMP:20260423T132222Z
ORGANIZER;CN=Institute for Competitive Intelligence:MAILTO:website@institut
 e-for-competitive-intelligence.com
GEO:50.169544;8.637941
X-APPLE-STRUCTURED-LOCATION;VALUE=URI;X-ADDRESS=Lurgiallee 2\, Frankfurt am
  Main\, 60439 Hesse\, Germany;X-APPLE-RADIUS=72;X-TITLE=On-site or Remote 
 (Frankfurt):50.169544;8.637941
END:VEVENT
END:VCALENDAR