BEGIN:VCALENDAR
VERSION:2.0
PRODID:Events Booking
BEGIN:VEVENT
UID:69eaa28c4a0c0
SUMMARY:CCIR Orientation Session: Navigating Your University-Accredited Cer
 tificate in Competitive Intelligence
DESCRIPTION:
LOCATION:Korngasse\, Butzbach\, 35510 Hesse\, Germany
DTSTART:20260318T140000Z
DTEND:20260318T150000Z
DTSTAMP:20260304T110540Z
ORGANIZER;CN=Institute for Competitive Intelligence:MAILTO:website@institut
 e-for-competitive-intelligence.com
GEO:50.435165;8.672334
X-APPLE-STRUCTURED-LOCATION;VALUE=URI;X-ADDRESS=Korngasse\, Butzbach\, 3551
 0 Hesse\, Germany;X-APPLE-RADIUS=72;X-TITLE=Remote:50.435165;8.672334
END:VEVENT
BEGIN:VEVENT
UID:69eaa28c4a116
SUMMARY:ICI-38 Workshop: Knowledge Management to Improve Competitive / Mark
 et Intelligence Processes 
DESCRIPTION:
LOCATION:Korngasse\, Butzbach\, 35510 Hesse\, Germany
DTSTART:20260427T070000Z
DTEND:20260427T160000Z
DTSTAMP:20260423T175156Z
ORGANIZER;CN=Institute for Competitive Intelligence:MAILTO:website@institut
 e-for-competitive-intelligence.com
GEO:50.435165;8.672334
X-APPLE-STRUCTURED-LOCATION;VALUE=URI;X-ADDRESS=Korngasse\, Butzbach\, 3551
 0 Hesse\, Germany;X-APPLE-RADIUS=72;X-TITLE=Remote:50.435165;8.672334
END:VEVENT
END:VCALENDAR