BEGIN:VCALENDAR
VERSION:2.0
PRODID:Events Booking
BEGIN:VEVENT
UID:69eaa35c62c41
SUMMARY:ICI-24 Workshop: Design and Operation of In-house CI Centers
DESCRIPTION:How to set up and manage an in-house CI center to increase effi
 ciency and \"return on intelligence\"
 By operating an efficient CI cente
 r\, you’ll enhance the competitiveness of your company. You’ll be able
  to anticipate new market developments and competitor moves in time. The C
 I center will help your company to avoid making poor and costly decisions.
  What’s more\, your “return on intelligence” will increase by profes
 sionalizing the processes and structures within your CI center.
LOCATION:Lurgiallee 2\, Frankfurt am Main\, 60439 Hesse\, Germany
DTSTART:20261007T070000Z
DTEND:20261007T160000Z
DTSTAMP:20260423T175524Z
ORGANIZER;CN=Institute for Competitive Intelligence:MAILTO:website@institut
 e-for-competitive-intelligence.com
GEO:50.169544;8.637941
X-APPLE-STRUCTURED-LOCATION;VALUE=URI;X-ADDRESS=Lurgiallee 2\, Frankfurt am
  Main\, 60439 Hesse\, Germany;X-APPLE-RADIUS=72;X-TITLE=On-site or Remote 
 (Frankfurt):50.169544;8.637941
END:VEVENT
END:VCALENDAR