BEGIN:VCALENDAR
VERSION:2.0
PRODID:Events Booking
BEGIN:VEVENT
UID:69eaa24615f00
SUMMARY:ICI-27 Workshop: Competitive Technology Intelligence (CTI)
DESCRIPTION:How to monitor\, assess\, and leverage technologies
 The Compe
 titive Technology Intelligence workshop looks at how to monitor the techni
 cal environment\, identify technological developments\, assess the potenti
 al of new technologies\, and analyze their effect upon the business\, cust
 omers\, and competitors.
LOCATION:Lurgiallee 2\, Frankfurt am Main\, 60439 Hesse\, Germany
DTSTART:20261028T080000Z
DTEND:20261028T170000Z
DTSTAMP:20260423T175046Z
ORGANIZER;CN=Institute for Competitive Intelligence:MAILTO:website@institut
 e-for-competitive-intelligence.com
GEO:50.169544;8.637941
X-APPLE-STRUCTURED-LOCATION;VALUE=URI;X-ADDRESS=Lurgiallee 2\, Frankfurt am
  Main\, 60439 Hesse\, Germany;X-APPLE-RADIUS=72;X-TITLE=On-site or Remote 
 (Frankfurt):50.169544;8.637941
END:VEVENT
END:VCALENDAR