BEGIN:VCALENDAR
VERSION:2.0
PRODID:Events Booking
BEGIN:VEVENT
UID:69ea8d51e06e7
SUMMARY:FCCI Orientation Session: Navigating Your University-Accredited Cer
 tificate in Competitive Intelligence
DESCRIPTION:
LOCATION:Korngasse\, Butzbach\, 35510 Hesse\, Germany
DTSTART:20260119T080000Z
DTEND:20260119T110000Z
DTSTAMP:20251103T120116Z
ORGANIZER;CN=Institute for Competitive Intelligence:MAILTO:website@institut
 e-for-competitive-intelligence.com
GEO:50.435165;8.672334
X-APPLE-STRUCTURED-LOCATION;VALUE=URI;X-ADDRESS=Korngasse\, Butzbach\, 3551
 0 Hesse\, Germany;X-APPLE-RADIUS=72;X-TITLE=Remote:50.435165;8.672334
END:VEVENT
BEGIN:VEVENT
UID:69ea8d51e075b
SUMMARY:ICI-01 Workshop: Competitive / Market Intelligence Basics
DESCRIPTION:
DTSTART:20250618T070000Z
DTEND:20250619T160000Z
DTSTAMP:20260423T162121Z
ORGANIZER;CN=Institute for Competitive Intelligence:MAILTO:website@institut
 e-for-competitive-intelligence.com
END:VEVENT
BEGIN:VEVENT
UID:69ea8d51e076a
SUMMARY:ICI-01 Workshop: Competitive / Market Intelligence Basics
DESCRIPTION:
LOCATION:Lurgiallee 2\, Frankfurt am Main\, 60439 Hesse\, Germany
DTSTART:20260202T080000Z
DTEND:20260203T170000Z
DTSTAMP:20260423T162121Z
ORGANIZER;CN=Institute for Competitive Intelligence:MAILTO:website@institut
 e-for-competitive-intelligence.com
GEO:50.169544;8.637941
X-APPLE-STRUCTURED-LOCATION;VALUE=URI;X-ADDRESS=Lurgiallee 2\, Frankfurt am
  Main\, 60439 Hesse\, Germany;X-APPLE-RADIUS=72;X-TITLE=On-site or Remote 
 (Frankfurt):50.169544;8.637941
END:VEVENT
END:VCALENDAR